BEGIN:VCALENDAR
VERSION:2.0
PRODID:-//Bill Burton Music - ECPv6.15.12.2//NONSGML v1.0//EN
CALSCALE:GREGORIAN
METHOD:PUBLISH
X-WR-CALNAME:Bill Burton Music
X-ORIGINAL-URL:https://billburtonmusic.com
X-WR-CALDESC:Events for Bill Burton Music
REFRESH-INTERVAL;VALUE=DURATION:PT1H
X-Robots-Tag:noindex
X-PUBLISHED-TTL:PT1H
BEGIN:VTIMEZONE
TZID:America/Los_Angeles
BEGIN:DAYLIGHT
TZOFFSETFROM:-0800
TZOFFSETTO:-0700
TZNAME:PDT
DTSTART:20240310T100000
END:DAYLIGHT
BEGIN:STANDARD
TZOFFSETFROM:-0700
TZOFFSETTO:-0800
TZNAME:PST
DTSTART:20241103T090000
END:STANDARD
BEGIN:DAYLIGHT
TZOFFSETFROM:-0800
TZOFFSETTO:-0700
TZNAME:PDT
DTSTART:20250309T100000
END:DAYLIGHT
BEGIN:STANDARD
TZOFFSETFROM:-0700
TZOFFSETTO:-0800
TZNAME:PST
DTSTART:20251102T090000
END:STANDARD
BEGIN:DAYLIGHT
TZOFFSETFROM:-0800
TZOFFSETTO:-0700
TZNAME:PDT
DTSTART:20260308T100000
END:DAYLIGHT
BEGIN:STANDARD
TZOFFSETFROM:-0700
TZOFFSETTO:-0800
TZNAME:PST
DTSTART:20261101T090000
END:STANDARD
END:VTIMEZONE
BEGIN:VEVENT
DTSTART;TZID=America/Los_Angeles:20250824T170000
DTEND;TZID=America/Los_Angeles:20250824T203000
DTSTAMP:20260420T075416
CREATED:20250801T023247Z
LAST-MODIFIED:20250801T023247Z
UID:364-1756054800-1756067400@billburtonmusic.com
SUMMARY:Travis Larson
DESCRIPTION:Two Left Feet is opening for Travis Larson!
URL:https://billburtonmusic.com/event/travis-larson/
LOCATION:Felida Ampitheater\, 12616 NW 33rd Ave\, Vancouver\, WA
ATTACH;FMTTYPE=image/jpeg:https://billburtonmusic.com/wp-content/uploads/2025/07/Travis-Larson-flyer.jpg
END:VEVENT
END:VCALENDAR